BEGIN:VCALENDAR
VERSION:2.0
PRODID:-//ChamberMaster//Event Calendar 2.0//EN
METHOD:PUBLISH
X-PUBLISHED-TTL:P3D
REFRESH-INTERVAL:P3D
CALSCALE:GREGORIAN
BEGIN:VEVENT
DTSTART:20180126T023000Z
DTEND:20180126T043000Z
X-MICROSOFT-CDO-ALLDAYEVENT:FALSE
SUMMARY:Cradle School
DESCRIPTION:Come join the fun!!!!...A special program to help parents/caregivers of infants and toddlers have a strong foundation and get them ready for school.  We hope you can join us\; you will not want to miss a single session.
X-ALT-DESC;FMTTYPE=text/html:Come join the fun!!!!...A special program to help parents/caregivers of infants and toddlers have a strong foundation and get them ready for school.&nbsp\; We hope you can join us\; you will not want to miss a single session.
LOCATION:MAFEW (former YMCA Building)...130 North College Street\, Harrodsburg KY
UID:e.1251.15441
SEQUENCE:3
DTSTAMP:20260423T042115Z
URL:https://www.mercerchamber.com/events/details/cradle-school-15441
END:VEVENT

END:VCALENDAR
