BEGIN:VCALENDAR
VERSION:2.0
PRODID:-//ChamberMaster//Event Calendar 2.0//EN
METHOD:PUBLISH
X-PUBLISHED-TTL:P3D
REFRESH-INTERVAL:P3D
CALSCALE:GREGORIAN
BEGIN:VEVENT
DTSTART:20170915T220000Z
DTEND:20170916T020000Z
X-MICROSOFT-CDO-ALLDAYEVENT:FALSE
SUMMARY:Corn Maze Opening Day
DESCRIPTION:Devine's Corn Maze Opening Day 2017
X-ALT-DESC;FMTTYPE=text/html:Devine&#39\;s Corn Maze Opening Day 2017
LOCATION:623 Talmage-Mayo Road Harrodsburg\, KY 40330
UID:e.1251.15337
SEQUENCE:3
DTSTAMP:20260425T104708Z
URL:https://www.mercerchamber.com/events/details/corn-maze-opening-day-15337
END:VEVENT

END:VCALENDAR
