BEGIN:VCALENDAR
VERSION:2.0
PRODID:-//ChamberMaster//Event Calendar 2.0//EN
METHOD:PUBLISH
X-PUBLISHED-TTL:P3D
REFRESH-INTERVAL:P3D
CALSCALE:GREGORIAN
BEGIN:VEVENT
DTSTART:20171109T170000Z
DTEND:20171109T180000Z
X-MICROSOFT-CDO-ALLDAYEVENT:FALSE
SUMMARY:COPD
DESCRIPTION:"COPD  -  Are You at Risk?" is the topic of November's Community Health Forum.\n\n November is National COPD Awareness Month\, an internationally-recognized \n\ncampaign of news and events held annually to enhance exposure around chronic \n\nobstructive pulmonary disease (COPD).\n\n \n\nWhile an estimated 15 million Americans suffer from COPD\, several additional\n\nmillions likely have COPD and don't even know it.  But\, with early diagnosis and\n\ntreatment\, people with COPD can improve their quality of life and begin to\n\nbreathe a little easier.\n\n Elizabeth Moffett\, Haggin Pulmonary Rehabilitation\, will be presenting this program. \n\nThe November Community Health Forum is free to the public and lunch will be provided\n\nby Little Caesars Pizza\, our promotional partner for November.
X-ALT-DESC;FMTTYPE=text/html:&quot\;COPD&nbsp\; -&nbsp\; Are You at Risk?&quot\; is the topic of November&#39\;s Community Health Forum.<br />\n&nbsp\;November is National COPD Awareness Month\, <span style="color:#222222\;">an internationally-recognized </span><br />\n<span style="color:#222222\;">campaign of news and events held annually to enhance exposure around chronic </span><br />\n<span style="color:#222222\;">obstructive pulmonary disease (COPD).</span><br />\n&nbsp\;<br />\nWhile an estimated 15 million Americans suffer from COPD\, several additional<br />\nmillions likely have COPD and don&#39\;t even know it. &nbsp\;But\, with early diagnosis and<br />\ntreatment\, people with COPD can improve their quality of life and begin to<br />\nbreathe a little easier.<br />\n&nbsp\;Elizabeth Moffett\, Haggin Pulmonary Rehabilitation\, will be presenting this program.&nbsp\;<br />\nThe November Community Health Forum is free to the public and lunch will be provided<br />\nby Little Caesars Pizza\, our promotional partner for November.<br />\n&nbsp\;
LOCATION:Mercer Public Library
UID:e.1251.16160
SEQUENCE:3
DTSTAMP:20260424T214616Z
URL:https://www.mercerchamber.com/events/details/copd-16160
END:VEVENT

END:VCALENDAR
