BEGIN:VCALENDAR
VERSION:2.0
PRODID:-//ChamberMaster//Event Calendar 2.0//EN
METHOD:PUBLISH
X-PUBLISHED-TTL:P3D
REFRESH-INTERVAL:P3D
CALSCALE:GREGORIAN
BEGIN:VEVENT
DTSTART:20171118T220000Z
DTEND:20171119T000000Z
X-MICROSOFT-CDO-ALLDAYEVENT:FALSE
SUMMARY:Community Chili Supper
DESCRIPTION:Community Chili Supper to benefit the Love Tree...Silent Auction Too!
X-ALT-DESC;FMTTYPE=text/html:Community Chili Supper to benefit the Love Tree...Silent Auction Too!
LOCATION:Mercer County Extension Office 1007 Lexington Road Harrodsburg\, KY
UID:e.1251.16162
SEQUENCE:3
DTSTAMP:20260424T202953Z
URL:https://www.mercerchamber.com/events/details/community-chili-supper-16162
END:VEVENT

END:VCALENDAR
