BEGIN:VCALENDAR
VERSION:2.0
PRODID:-//ChamberMaster//Event Calendar 2.0//EN
METHOD:PUBLISH
X-PUBLISHED-TTL:P3D
REFRESH-INTERVAL:P3D
CALSCALE:GREGORIAN
BEGIN:VEVENT
DTSTART:20171112T190000Z
DTEND:20171112T210000Z
X-MICROSOFT-CDO-ALLDAYEVENT:FALSE
SUMMARY:Church Cornhole Challenge
DESCRIPTION:1st annual Corn Hole challenge
X-ALT-DESC;FMTTYPE=text/html:1st annual Corn Hole challenge
LOCATION:Harrodsburg Community Center 371 East Lexington Street Harrodsburg
UID:e.1251.16154
SEQUENCE:3
DTSTAMP:20260424T104330Z
URL:https://www.mercerchamber.com/events/details/church-cornhole-challenge-16154
END:VEVENT

END:VCALENDAR
