BEGIN:VCALENDAR
VERSION:2.0
PRODID:-//ChamberMaster//Event Calendar 2.0//EN
METHOD:PUBLISH
X-PUBLISHED-TTL:P3D
REFRESH-INTERVAL:P3D
CALSCALE:GREGORIAN
BEGIN:VEVENT
DTSTART:20171125T150000Z
DTEND:20171125T230000Z
X-MICROSOFT-CDO-ALLDAYEVENT:FALSE
SUMMARY:CHRISTMAS OPEN HOUSE
DESCRIPTION:Christmas Open House\n\nBlack Friday/Small Business Saturday Sales
X-ALT-DESC;FMTTYPE=text/html:Christmas Open House<br />\nBlack Friday/Small Business Saturday Sales
LOCATION:Beehive Gifts & Pet Boutique 114 South Main Street Harrodsburg KY
UID:e.1251.16185
SEQUENCE:3
DTSTAMP:20260425T030338Z
URL:https://www.mercerchamber.com/events/details/christmas-open-house-16185
END:VEVENT

END:VCALENDAR
