BEGIN:VCALENDAR
VERSION:2.0
PRODID:-//ChamberMaster//Event Calendar 2.0//EN
METHOD:PUBLISH
X-PUBLISHED-TTL:P3D
REFRESH-INTERVAL:P3D
CALSCALE:GREGORIAN
BEGIN:VEVENT
DTSTART:20171217T153000Z
DTEND:20171217T170000Z
X-MICROSOFT-CDO-ALLDAYEVENT:FALSE
SUMMARY:Christmas Canata
DESCRIPTION:One Silent Night...a ballad of Love and Joy
X-ALT-DESC;FMTTYPE=text/html:One Silent Night...a ballad of Love and Joy
LOCATION:Harrodsburg Christian Church South Main Street
UID:e.1251.16237
SEQUENCE:3
DTSTAMP:20260425T122520Z
URL:https://www.mercerchamber.com/events/details/christmas-canata-16237
END:VEVENT

END:VCALENDAR
