BEGIN:VCALENDAR
VERSION:2.0
PRODID:-//ChamberMaster//Event Calendar 2.0//EN
METHOD:PUBLISH
X-PUBLISHED-TTL:P3D
REFRESH-INTERVAL:P3D
CALSCALE:GREGORIAN
BEGIN:VEVENT
DTSTART:20171003T220000Z
DTEND:20171004T010000Z
X-MICROSOFT-CDO-ALLDAYEVENT:FALSE
SUMMARY:Chalky 101
DESCRIPTION:Chalky 101 is an informative\, hands on\, learning experience to get you comfortable using Americana Decor Chalky Finish Paint & Wax. This paint is perfect for furniture\, cabinets\, decor\, and more. Tips\, tricks\, decorative techniques\, wax application & more will be covered. Each class participant will choose two 4 oz paints for use during class and keep the remainder. Use of wax\, brushes\, and all other materials included. Class cost- $60. Sign up with one or more friends and each of you will receive a $5 discount. $25 deposit holds your spot. Message me with questions or to sign up.\n\n\n\nAll paint supplies purchased the night of the class will be 15% off!
X-ALT-DESC;FMTTYPE=text/html:<span style="color: rgb(75\, 79\, 86)\; font-family: Helvetica\, Arial\, sans-serif\; font-size: 14px\;">Chalky 101 is an informative\, hands on\, learning experience to get you comfortable using Americana Decor Chalky Finish Paint &amp\; Wax. This paint is perfect for furniture\, cabinets\, decor\, and more. Tips\, tricks\, decorative techniques\, wax application &amp\; more will be covered. Each class participant will choose two 4 oz paints for use during class and keep the remainder. Use of wax\, brushes\, and all other materials included. Class cost- $60. Sign up with one or more friends and each of you will receive a $5 discount. $25 deposit holds your spot. Message me with questions or to sign up.</span><br style="color: rgb(75\, 79\, 86)\; font-family: Helvetica\, Arial\, sans-serif\; font-size: 14px\;" />\n<br style="color: rgb(75\, 79\, 86)\; font-family: Helvetica\, Arial\, sans-serif\; font-size: 14px\;" />\n<span style="color: rgb(75\, 79\, 86)\; font-family: Helvetica\, Arial\, sans-serif\; font-size: 14px\;">All paint supplies purchased the night of the class will be 15% off!</span>
LOCATION:Rosewood\, LLC 749 North College\, Harrodsburg\, Kentucky 40330
UID:e.1251.15336
SEQUENCE:3
DTSTAMP:20260425T133033Z
URL:https://www.mercerchamber.com/events/details/chalky-101-15336
END:VEVENT

END:VCALENDAR
