BEGIN:VCALENDAR
VERSION:2.0
PRODID:-//ChamberMaster//Event Calendar 2.0//EN
METHOD:PUBLISH
X-PUBLISHED-TTL:P3D
REFRESH-INTERVAL:P3D
CALSCALE:GREGORIAN
BEGIN:VEVENT
DTSTART:20220624T150000Z
DTEND:20220624T190000Z
X-MICROSOFT-CDO-ALLDAYEVENT:FALSE
SUMMARY:CC Auto 10th Anniversary Celebration!
DESCRIPTION:CC Auto is celebrating TEN YEARS of business on Friday\, June 24th!!\n\nThere will be numerous giveaways and they will be grilling lunch!  \n\nCustomer Appreciation Lunch 11am-1pm \n\nIce Cream from The Scoop 1pm-3pm
X-ALT-DESC;FMTTYPE=text/html:CC Auto is celebrating TEN YEARS of business on Friday\, June 24th!!<br />\nThere will be numerous giveaways and they will be grilling lunch!&nbsp\;&nbsp\;<br />\nCustomer Appreciation Lunch 11am-1pm&nbsp\;<br />\nIce Cream from The Scoop 1pm-3pm
LOCATION:CC Auto 1278 Louisville Road Harrodsburg\, KY 40330
UID:e.1251.36376
SEQUENCE:3
DTSTAMP:20260426T040408Z
URL:https://www.mercerchamber.com/events/details/cc-auto-10th-anniversary-celebration-36376
END:VEVENT

END:VCALENDAR
