BEGIN:VCALENDAR
VERSION:2.0
PRODID:-//ChamberMaster//Event Calendar 2.0//EN
METHOD:PUBLISH
X-PUBLISHED-TTL:P3D
REFRESH-INTERVAL:P3D
CALSCALE:GREGORIAN
BEGIN:VEVENT
DTSTART:20111114T230000Z
DTEND:20111115T000000Z
X-MICROSOFT-CDO-ALLDAYEVENT:FALSE
SUMMARY:CAP Design Workshop Presentations
DESCRIPTION:There will be a presentation of the work completed at the "Your Town" workshop\, on the 14th of November at 6PM at the Ragged Edge Community Theatre .  In attendance will be the Mayor\, City Commissioners\; Judge Dedman\, Magistrates\, Commissioner of Local Government for the Commonwealth\, Mr. Tony Wilder\, Rep King and Senator Higdon as well as interested citizens.
X-ALT-DESC;FMTTYPE=text/html:<span style="font-family: 'arial'\, 'sans-serif'\; color: black\; font-size: 9pt\; mso-fareast-font-family: calibri\; mso-fareast-theme-font: minor-latin\; mso-ansi-language: en-us\; mso-fareast-language: en-us\; mso-bidi-language: ar-sa">There will be a presentation of the work&nbsp\;completed at&nbsp\;the &quot\;Your Town&quot\; workshop\,&nbsp\;on the 14th of November at 6PM&nbsp\;at the Ragged Edge Community Theatre .&nbsp\; In attendance will be the Mayor\, City Commissioners\; Judge Dedman\, Magistrates\, Commissioner of Local Government for the Commonwealth\, Mr. Tony Wilder\, Rep King and Senator Higdon&nbsp\;as well as interested citizens.&nbsp\; </span>
LOCATION:Ragged Edge
UID:e.1251.322
SEQUENCE:3
DTSTAMP:20260421T052728Z
URL:https://www.mercerchamber.com/events/details/cap-design-workshop-presentations-11-14-2011-322
END:VEVENT

END:VCALENDAR
