BEGIN:VCALENDAR
VERSION:2.0
PRODID:-//ChamberMaster//Event Calendar 2.0//EN
METHOD:PUBLISH
X-PUBLISHED-TTL:P3D
REFRESH-INTERVAL:P3D
CALSCALE:GREGORIAN
BEGIN:VEVENT
DTSTART:20171220T000000Z
DTEND:20171220T020000Z
X-MICROSOFT-CDO-ALLDAYEVENT:FALSE
SUMMARY:Candlelight Service
DESCRIPTION:Candlelight Service...including scripture readings\, carols\, special music and communion  Light refreshments will be served afterwards.  The public is welcome to attend
X-ALT-DESC;FMTTYPE=text/html:Candlelight Service...including scripture readings\, carols\, special music and communion&nbsp\; Light refreshments will be served afterwards.&nbsp\; The public is welcome to attend
LOCATION:New Providence Presbyterian Church 3301 Louisville Road Salvisa KY
UID:e.1251.16236
SEQUENCE:3
DTSTAMP:20260423T143513Z
URL:https://www.mercerchamber.com/events/details/candlelight-service-16236
END:VEVENT

END:VCALENDAR
