BEGIN:VCALENDAR
VERSION:2.0
PRODID:-//ChamberMaster//Event Calendar 2.0//EN
METHOD:PUBLISH
X-PUBLISHED-TTL:P3D
REFRESH-INTERVAL:P3D
CALSCALE:GREGORIAN
BEGIN:VEVENT
DTSTART:20190219T230000Z
DTEND:20190220T000000Z
X-MICROSOFT-CDO-ALLDAYEVENT:FALSE
SUMMARY:Cancer Support Group
DESCRIPTION:Cancer Support Group
X-ALT-DESC;FMTTYPE=text/html:Cancer Support Group
LOCATION:Carpenters Christian Church
UID:e.1251.16593
SEQUENCE:3
DTSTAMP:20260420T124049Z
URL:https://www.mercerchamber.com/events/details/cancer-support-group-02-19-2019-16593
END:VEVENT

END:VCALENDAR
