BEGIN:VCALENDAR
VERSION:2.0
PRODID:-//ChamberMaster//Event Calendar 2.0//EN
METHOD:PUBLISH
X-PUBLISHED-TTL:P3D
REFRESH-INTERVAL:P3D
CALSCALE:GREGORIAN
BEGIN:VEVENT
DTSTART:20220514T140000Z
DTEND:20220514T180000Z
X-MICROSOFT-CDO-ALLDAYEVENT:FALSE
SUMMARY:Business Expo and Job Fair at Anderson Co.
DESCRIPTION:Join our sister chamber in Anderson County for a Business Expo and Job Fair.
X-ALT-DESC;FMTTYPE=text/html:Join our sister chamber in Anderson County for a Business Expo and Job Fair.
LOCATION:
UID:e.1251.33994
SEQUENCE:3
DTSTAMP:20260421T135013Z
URL:https://www.mercerchamber.com/events/details/business-expo-and-job-fair-at-anderson-co-33994
END:VEVENT

END:VCALENDAR
