BEGIN:VCALENDAR
VERSION:2.0
PRODID:-//ChamberMaster//Event Calendar 2.0//EN
METHOD:PUBLISH
X-PUBLISHED-TTL:P3D
REFRESH-INTERVAL:P3D
CALSCALE:GREGORIAN
BEGIN:VEVENT
DTSTART:20120414T133000Z
DTEND:20120414T160000Z
X-MICROSOFT-CDO-ALLDAYEVENT:FALSE
SUMMARY:Breakfast with the Babies
DESCRIPTION:Breakfast for children and the farm babies!
X-ALT-DESC;FMTTYPE=text/html:Breakfast for children and the farm babies!
LOCATION:Shaker Village
UID:e.1251.467
SEQUENCE:3
DTSTAMP:20260424T074359Z
URL:https://www.mercerchamber.com/events/details/breakfast-with-the-babies-04-14-2012-467
END:VEVENT

END:VCALENDAR
