BEGIN:VCALENDAR
VERSION:2.0
PRODID:-//ChamberMaster//Event Calendar 2.0//EN
METHOD:PUBLISH
X-PUBLISHED-TTL:P3D
REFRESH-INTERVAL:P3D
CALSCALE:GREGORIAN
BEGIN:VEVENT
DTSTART:20171202T133000Z
DTEND:20171202T160000Z
X-MICROSOFT-CDO-ALLDAYEVENT:FALSE
SUMMARY:Breakfast with Santa
DESCRIPTION:Annual Breakfast with Santa with MAFEW (former YMCA)\n\nCome and join us for a community breakfast in the holiday spirit!\n\n$5 per person (children 3 and under free)\n\nTake free pictures with Santa!
X-ALT-DESC;FMTTYPE=text/html:Annual Breakfast with Santa with MAFEW (former YMCA)<br />\n<span style="color: rgb(75\, 79\, 86)\; font-family: &quot\;SF Optimized&quot\;\, system-ui\, -apple-system\, BlinkMacSystemFont\, &quot\;.SFNSText-Regular&quot\;\, sans-serif\; font-size: 14px\; letter-spacing: -0.11999999731779099px\;">Come and join us for a community breakfast in the holiday spirit!</span><br style="color: rgb(75\, 79\, 86)\; font-family: &quot\;SF Optimized&quot\;\, system-ui\, -apple-system\, BlinkMacSystemFont\, &quot\;.SFNSText-Regular&quot\;\, sans-serif\; font-size: 14px\; letter-spacing: -0.11999999731779099px\;" />\n<span style="color: rgb(75\, 79\, 86)\; font-family: &quot\;SF Optimized&quot\;\, system-ui\, -apple-system\, BlinkMacSystemFont\, &quot\;.SFNSText-Regular&quot\;\, sans-serif\; font-size: 14px\; letter-spacing: -0.11999999731779099px\;">$5 per person (children 3 and under free)</span><br style="color: rgb(75\, 79\, 86)\; font-family: &quot\;SF Optimized&quot\;\, system-ui\, -apple-system\, BlinkMacSystemFont\, &quot\;.SFNSText-Regular&quot\;\, sans-serif\; font-size: 14px\; letter-spacing: -0.11999999731779099px\;" />\n<span style="color: rgb(75\, 79\, 86)\; font-family: &quot\;SF Optimized&quot\;\, system-ui\, -apple-system\, BlinkMacSystemFont\, &quot\;.SFNSText-Regular&quot\;\, sans-serif\; font-size: 14px\; letter-spacing: -0.11999999731779099px\;">Take free pictures with Santa!</span>
LOCATION:pin p Harrodsburg Christian Church (Disciples of Christ) 305 S Main St\, Harrodsburg\, Kentucky 40330
UID:e.1251.15470
SEQUENCE:3
DTSTAMP:20260424T152654Z
URL:https://www.mercerchamber.com/events/details/breakfast-with-santa-15470
END:VEVENT

END:VCALENDAR
