BEGIN:VCALENDAR
VERSION:2.0
PRODID:-//ChamberMaster//Event Calendar 2.0//EN
METHOD:PUBLISH
X-PUBLISHED-TTL:P3D
REFRESH-INTERVAL:P3D
CALSCALE:GREGORIAN
BEGIN:VEVENT
DTSTART:20191019T180000Z
DTEND:20191019T200000Z
X-MICROSOFT-CDO-ALLDAYEVENT:FALSE
SUMMARY:Boo Cruise
DESCRIPTION:A Halloween Party on the Kentucky River!  Open to All Ages.  Costumes are welcome.  Participants will enjoy games\, refreshments\, and decorations.
X-ALT-DESC;FMTTYPE=text/html:A Halloween Party on the Kentucky River!&nbsp\; Open to All Ages.&nbsp\; Costumes are welcome.&nbsp\; Participants will enjoy games\, refreshments\, and decorations.&nbsp\;&nbsp\;
LOCATION:
UID:e.1251.27194
SEQUENCE:3
DTSTAMP:20260421T203258Z
URL:https://www.mercerchamber.com/events/details/boo-cruise-27194
END:VEVENT

END:VCALENDAR
