BEGIN:VCALENDAR
VERSION:2.0
PRODID:-//ChamberMaster//Event Calendar 2.0//EN
METHOD:PUBLISH
X-PUBLISHED-TTL:P3D
REFRESH-INTERVAL:P3D
CALSCALE:GREGORIAN
BEGIN:VEVENT
DTSTART:20191016T230000Z
DTEND:20191017T000000Z
X-MICROSOFT-CDO-ALLDAYEVENT:FALSE
SUMMARY:Bible Study
DESCRIPTION:Bible Study at Saint Barnabas Church of the Encourager
X-ALT-DESC;FMTTYPE=text/html:Bible Study at Saint Barnabas Church of the Encourager
LOCATION:327 South Main Street in Harrodsburg
UID:e.1251.20570
SEQUENCE:3
DTSTAMP:20260421T205149Z
URL:https://www.mercerchamber.com/events/details/bible-study-10-16-2019-20570
END:VEVENT

END:VCALENDAR
