BEGIN:VCALENDAR
VERSION:2.0
PRODID:-//ChamberMaster//Event Calendar 2.0//EN
METHOD:PUBLISH
X-PUBLISHED-TTL:P3D
REFRESH-INTERVAL:P3D
CALSCALE:GREGORIAN
BEGIN:VEVENT
DTSTART:20171217T210000Z
DTEND:20171217T220000Z
X-MICROSOFT-CDO-ALLDAYEVENT:FALSE
SUMMARY:Best Christmas Ever
DESCRIPTION:Best Christmas Ever
X-ALT-DESC;FMTTYPE=text/html:Best Christmas Ever
LOCATION:The Carpenter's Christian Church 1340 US 127 Bypass Harrodsburg\, KY 40330
UID:e.1251.16221
SEQUENCE:3
DTSTAMP:20260424T222932Z
URL:https://www.mercerchamber.com/events/details/best-christmas-ever-16221
END:VEVENT

END:VCALENDAR
