BEGIN:VCALENDAR
VERSION:2.0
PRODID:-//ChamberMaster//Event Calendar 2.0//EN
METHOD:PUBLISH
X-PUBLISHED-TTL:P3D
REFRESH-INTERVAL:P3D
CALSCALE:GREGORIAN
BEGIN:VEVENT
DTSTART:20190504T130000Z
DTEND:20190504T160000Z
X-MICROSOFT-CDO-ALLDAYEVENT:FALSE
SUMMARY:Auditions James Harrod The Battle for Kentucky
DESCRIPTION:Friends of Fort Harrod and Old Fort Harrod State Park are excited to announce auditions for James Harrod: The Battle for Ky. The historical outdoor production tells the story of our states first town and how the settlers fought to preserve Kentucky as we know it! Auditions will be held Saturday May 4th\, 9am\, at the Fort Harrod Amphitheater. For questions or more information please call 859-734-3314
X-ALT-DESC;FMTTYPE=text/html:<span style="caret-color: rgb(29\, 33\, 41)\; color: rgb(29\, 33\, 41)\; font-family: system-ui\, -apple-system\, BlinkMacSystemFont\, &quot\;.SFNSText-Regular&quot\;\, sans-serif\; font-size: 14px\; text-size-adjust: auto\;">Friends of Fort Harrod and Old Fort Harrod State Park are excited to announce auditions for James Harrod: The Battle for Ky. The historical outdoor production tells the story of our states first town and how the settlers fought to preserve Kentucky as we know it! Auditions will be held Saturday May 4th\, 9am\, at the Fort Harrod Amphitheater. For questions or more information please call 859-734-3314</span>
LOCATION:Fort Harrod Amphitheater
UID:e.1251.20946
SEQUENCE:3
DTSTAMP:20260425T155251Z
URL:https://www.mercerchamber.com/events/details/auditions-james-harrod-the-battle-for-kentucky-20946
END:VEVENT

END:VCALENDAR
