BEGIN:VCALENDAR
VERSION:2.0
PRODID:-//ChamberMaster//Event Calendar 2.0//EN
METHOD:PUBLISH
X-PUBLISHED-TTL:P3D
REFRESH-INTERVAL:P3D
CALSCALE:GREGORIAN
BEGIN:VEVENT
DTSTART:20180215T000000Z
DTEND:20180215T010000Z
X-MICROSOFT-CDO-ALLDAYEVENT:FALSE
SUMMARY:Ash Wednesday Services
DESCRIPTION:Ash Wednesday Service at St. Barnabas Church of the Encourager.  The start of the Lenten Season.
X-ALT-DESC;FMTTYPE=text/html:Ash Wednesday Service at St. Barnabas Church of the Encourager.&nbsp\; The start of the Lenten Season.
LOCATION:St. Barnabas Church of the Encourager 327 South Main St. Harrodsburg\, Ky 40330 (859) 734-3377
UID:e.1251.16345
SEQUENCE:3
DTSTAMP:20260423T145754Z
URL:https://www.mercerchamber.com/events/details/ash-wednesday-services-16345
END:VEVENT

END:VCALENDAR
