BEGIN:VCALENDAR
VERSION:2.0
PRODID:-//ChamberMaster//Event Calendar 2.0//EN
METHOD:PUBLISH
X-PUBLISHED-TTL:P3D
REFRESH-INTERVAL:P3D
CALSCALE:GREGORIAN
BEGIN:VEVENT
DTSTART:20170916T140000Z
DTEND:20170916T220000Z
X-MICROSOFT-CDO-ALLDAYEVENT:FALSE
SUMMARY:Artisans Expo
DESCRIPTION:Come to the Artisan's Expo at Old Fort Harrod State Park during the Fort Harrod Jazz festival Saturday Sept. 16th.  Admission is free.\n\nMany thanks to jury and creators Mary Elizabeth Barrington and Andrew Stine.
X-ALT-DESC;FMTTYPE=text/html:Come to the Artisan&#39\;s Expo at Old Fort Harrod State Park during the Fort Harrod&nbsp\;Jazz festival Saturday Sept. 16th. &nbsp\;Admission is free.<br />\nMany thanks to jury and creators Mary Elizabeth Barrington and Andrew Stine.
LOCATION:Old Fort Harrod State Park
UID:e.1251.15430
SEQUENCE:3
DTSTAMP:20260425T104551Z
URL:https://www.mercerchamber.com/events/details/artisans-expo-15430
END:VEVENT

END:VCALENDAR
