BEGIN:VCALENDAR
VERSION:2.0
PRODID:-//ChamberMaster//Event Calendar 2.0//EN
METHOD:PUBLISH
X-PUBLISHED-TTL:P3D
REFRESH-INTERVAL:P3D
CALSCALE:GREGORIAN
BEGIN:VEVENT
DTSTART:20171027T130000Z
DTEND:20171027T160000Z
X-MICROSOFT-CDO-ALLDAYEVENT:FALSE
SUMMARY:Angel Tree 2017 Registration
DESCRIPTION:Angel Tree 2017 Registration
X-ALT-DESC;FMTTYPE=text/html:Angel Tree 2017 Registration
LOCATION:The Salvation Army 519 South 4th St\, Danville KY
UID:e.1251.15486
SEQUENCE:3
DTSTAMP:20260425T102455Z
URL:https://www.mercerchamber.com/events/details/angel-tree-2017-registration-10-27-2017-15486
END:VEVENT

END:VCALENDAR
